BEGIN:VCALENDAR
VERSION:2.0
PRODID:-//Akerusia Danza - ECPv6.3.7//NONSGML v1.0//EN
CALSCALE:GREGORIAN
METHOD:PUBLISH
X-WR-CALNAME:Akerusia Danza
X-ORIGINAL-URL:https://www.akerusiadanza.it
X-WR-CALDESC:Eventi per Akerusia Danza
REFRESH-INTERVAL;VALUE=DURATION:PT1H
X-Robots-Tag:noindex
X-PUBLISHED-TTL:PT1H
BEGIN:VTIMEZONE
TZID:Europe/Rome
BEGIN:DAYLIGHT
TZOFFSETFROM:+0100
TZOFFSETTO:+0200
TZNAME:CEST
DTSTART:20240331T010000
END:DAYLIGHT
BEGIN:STANDARD
TZOFFSETFROM:+0200
TZOFFSETTO:+0100
TZNAME:CET
DTSTART:20241027T010000
END:STANDARD
END:VTIMEZONE
BEGIN:VEVENT
DTSTART;TZID=Europe/Rome:20241213T193000
DTEND;TZID=Europe/Rome:20241213T203000
DTSTAMP:20260423T193557
CREATED:20241212T084320Z
LAST-MODIFIED:20241212T084320Z
UID:1084-1734118200-1734121800@www.akerusiadanza.it
SUMMARY:Memorie di Siddharta/OperAperta per Altri Natali
DESCRIPTION:Venerdì 13 dicembre 2024\, alle ore 19.30\, nella Parrocchia dell’Addolorata alla Pigna\, l’associazione Sfera Ovale presenta lo spettacolo “Memorie di Siddharta/OperAperta”\, prodotto da Akerusia Danza\, promosso e finanziato dal Comune di Napoli nell’ambito della rassegna “Altri Natali”. Con la regia di Rosario Liguoro\, il coordinamento artistico di Elena D’Aguanno\, la coreografia di Elena D’Aguanno e Sabrina D’Aguanno\, la voce di Patrizia Eger e Francesco Rivieccio\, le musiche del polistrumentista Otello Matacena\, la danza di Mariagiulia D’Angelo.  \n“Memorie di Siddharta/OperAperta” è una reinterpretazione interdisciplinare dell’opera “Siddharta” di Hermann Hesse\, che esplora il viaggio interiore del protagonista alla ricerca della felicità e della sua realtà più profonda. Attraverso un intreccio di teatro\, danza e musica\, la narrazione prende forma e si arricchisce di suggestioni emotive e sensoriali. \n<<Il doppio titolo “OperAperta” – spiega la coordinatrice artistica e coreografa Elena D’Aguanno – richiama un progetto che da anni caratterizza il lavoro di Akerusia Danza: mettere la danza al servizio di altri linguaggi artistici. L’obiettivo è quello di amplificare la percezione di un testo letterario o di un’opera pittorica\, trasformandoli attraverso la forza evocativa del corpo in movimento>>. \nIl cuore dell’opera è il monologo interpretato dall’attrice napoletana Patrizia Eger\, che dà voce a Kamala\, il personaggio femminile che guida Siddharta nella sua trasformazione da asceta a uomo immerso nelle esperienze terrene. Accanto alla sua intensa interpretazione\, l’attore Francesco Rivieccio contribuisce con un reading di brani selezionati dall’opera di Hesse\, mentre la dimensione simbolica e spirituale del testo prende vita attraverso la danza di Mariagiulia D’Angelo\, su coreografie curate da Elena D’Aguanno e Sabrina D’Aguanno. Le musiche\, eseguite dal polistrumentista Otello Matacena\, creano un contraltare immaginifico che amplifica le idee e le emozioni dello spettacolo\, costruendo un tessuto sonoro che accompagna la metamorfosi di Siddharta.
URL:https://www.akerusiadanza.it/event/memorie-di-siddharta-operaperta-per-altri-natali/
LOCATION:Parrocchia dell’Addolorata alla Pigna\, via della Pigna 203\, Napoli
ATTACH;FMTTYPE=image/jpeg:https://www.akerusiadanza.it/wp-content/uploads/2024/12/locandina-Altri-natali-Memorie-di-Siddharta-operaperta.jpg
END:VEVENT
END:VCALENDAR