BEGIN:VCALENDAR
VERSION:2.0
PRODID:-//Akerusia Danza - ECPv6.3.7//NONSGML v1.0//EN
CALSCALE:GREGORIAN
METHOD:PUBLISH
X-WR-CALNAME:Akerusia Danza
X-ORIGINAL-URL:https://www.akerusiadanza.it
X-WR-CALDESC:Eventi per Akerusia Danza
REFRESH-INTERVAL;VALUE=DURATION:PT1H
X-Robots-Tag:noindex
X-PUBLISHED-TTL:PT1H
BEGIN:VTIMEZONE
TZID:Europe/Rome
BEGIN:DAYLIGHT
TZOFFSETFROM:+0100
TZOFFSETTO:+0200
TZNAME:CEST
DTSTART:20250330T010000
END:DAYLIGHT
BEGIN:STANDARD
TZOFFSETFROM:+0200
TZOFFSETTO:+0100
TZNAME:CET
DTSTART:20251026T010000
END:STANDARD
END:VTIMEZONE
BEGIN:VEVENT
DTSTART;TZID=Europe/Rome:20250626T190000
DTEND;TZID=Europe/Rome:20250626T200000
DTSTAMP:20260423T192844
CREATED:20250623T173443Z
LAST-MODIFIED:20250623T173543Z
UID:1183-1750964400-1750968000@www.akerusiadanza.it
SUMMARY:Dianara va in scena al Rione Terra con Antichi Scenari
DESCRIPTION:Giovedì 26 giugno\, ore 19.00 Akerusia Danza porta in scena Dianara al  Rione Terra –  Terrazza Centimolo\, nell’ambito della rassegna Antichi Scenari. \nQuattro magnetiche danzatrici e due intense performer\, legate da una speciale connessione artistica e potenza interpretativa\, condurranno il pubblico alla scoperta dei propri varchi interiori\, interrogandosi sulla possibile perdita di focalizzazione e di energia delle donne nell’era moderna\, che le lascia preda di preconcetti e stereotipi. \nQuesto spettacolo\, ispirato alla figura della Janara\,  indaga attraverso diverse forme artistiche la natura istintuale della femminilità\, l’importanza di rispettarsi all’interno dei cicli della vita e la connessione tra terreno e spirituale. \nLe voci narranti e i gesti coreografici si immergono oltre il velo del tempo\, ritrovando il legame ancestrale con le madri e le antenate\, che hanno tracciato il cammino. \nIdeazione e coreografie Marcella Martusciello \nMomenti evocativi narrati e cantati de Le Rondinella a cura di Francesca e Amelia Rondinella \nRegia Maria Vittoria Barrella e Marcella Martusciello \nDanzatrici Manuela Facelgi\, Sonia Ferraro\, Marcella Martusciello\, Maria Rosaria Napolano \nPaesaggio sonoro Julia Primicile Carafa \n“Femmena ‘e terra\, Femmena ‘e fuoco” \ndi Amelia Rondinella e Francesco Forni “Rosso” Soundfly\, 2024 \nDirezione e coordinamento artistico Elena D’Aguanno \nProduzione Akerusia Danza
URL:https://www.akerusiadanza.it/event/dianara-va-in-scena-al-rione-terra-con-antichi-scenari/
LOCATION:Rione Terra – Terrazza Centimolo\, Rione Terra\, Pozzuoli\, Italia\, Italy
ATTACH;FMTTYPE=image/jpeg:https://www.akerusiadanza.it/wp-content/uploads/2025/06/DIANARA-2.jpg
END:VEVENT
END:VCALENDAR