BEGIN:VCALENDAR
VERSION:2.0
PRODID:-//Akerusia Danza - ECPv6.3.7//NONSGML v1.0//EN
CALSCALE:GREGORIAN
METHOD:PUBLISH
X-WR-CALNAME:Akerusia Danza
X-ORIGINAL-URL:https://www.akerusiadanza.it
X-WR-CALDESC:Eventi per Akerusia Danza
REFRESH-INTERVAL;VALUE=DURATION:PT1H
X-Robots-Tag:noindex
X-PUBLISHED-TTL:PT1H
BEGIN:VTIMEZONE
TZID:Europe/Rome
BEGIN:DAYLIGHT
TZOFFSETFROM:+0100
TZOFFSETTO:+0200
TZNAME:CEST
DTSTART:20240331T010000
END:DAYLIGHT
BEGIN:STANDARD
TZOFFSETFROM:+0200
TZOFFSETTO:+0100
TZNAME:CET
DTSTART:20241027T010000
END:STANDARD
END:VTIMEZONE
BEGIN:VEVENT
DTSTART;TZID=Europe/Rome:20241122T210000
DTEND;TZID=Europe/Rome:20241122T220000
DTSTAMP:20260423T192519
CREATED:20241120T210935Z
LAST-MODIFIED:20241120T210935Z
UID:1070-1732309200-1732312800@www.akerusiadanza.it
SUMMARY:Dianara va in scena al Centro Sociale M. Teresa di Calcutta
DESCRIPTION:Venerdì 22 novembre\, ore 21.00\, al Centro Sociale M Teresa di Calcutta ad Aiello del Sabato (Avellino) Akerusia Danza andrà in scena con Dianara.\nLo spettacolo nasce da un progetto creativo volto alla ricerca della relazione ancestrale tra la donna\, le fasi lunari e un lavoro di approfondimento sull’importanza che ha l’ascolto verso sé stesse\, il proprio corpo e le sue necessità. Il suo nome deriva da Dianara\, sacerdotessa di Diana\, dea romana della luna\, protettrice delle donne\, degli animali selvatici.\n \nLa suggestione del legame tra la femminilità e le fasi lunari è stata la spinta verso una ricerca antropologica che affonda le sue radici in alcune credenze popolari dell’Italia meridionale arrivando ad indagare la figura della Janara. Questa donna rappresenta un emblema di forza e di rinnovamento\, ma anche di connessione alle fasi della luna e alle energie che essa emana. \nProduzione: Akerusia Danza\nIdeazione e coreografie. Marcella Martusciello\nRegia: Maria Vittoria Barrella e Marcella Martusciello\nDanzatrici: Manuela Facelgi\, Sonia Ferraro\, Marcella Martusciello\, Maria Rosaria Napolano\, con la partecipazione di Sara Metrano\nPaesaggio sonoro: Julia Primicile Carafa\nDirezione e coordinamento artistico: Elena D’Aguanno\nCostumi: Gaia Guida\, Alessandra Maruzzella\, Sabrina Pignalosa\, Anna Maria Pizzella\nRielaborazione sartoriale: Cristina Bottino\nPromozione: Itinerarte\nOrganizzazione: Luna Nova
URL:https://www.akerusiadanza.it/event/dianara-va-in-scena-al-centro-sociale-m-teresa-di-calcutta/
LOCATION:Centro Sociale M Teresa di Calcutta\, Aniello del Sabato
ATTACH;FMTTYPE=image/jpeg:https://www.akerusiadanza.it/wp-content/uploads/2024/11/Centro-Sociale-maria-Teresa-1.jpg
END:VEVENT
END:VCALENDAR