BEGIN:VCALENDAR
VERSION:2.0
PRODID:-//Akerusia Danza - ECPv6.3.7//NONSGML v1.0//EN
CALSCALE:GREGORIAN
METHOD:PUBLISH
X-WR-CALNAME:Akerusia Danza
X-ORIGINAL-URL:https://www.akerusiadanza.it
X-WR-CALDESC:Eventi per Akerusia Danza
REFRESH-INTERVAL;VALUE=DURATION:PT1H
X-Robots-Tag:noindex
X-PUBLISHED-TTL:PT1H
BEGIN:VTIMEZONE
TZID:Europe/Rome
BEGIN:DAYLIGHT
TZOFFSETFROM:+0100
TZOFFSETTO:+0200
TZNAME:CEST
DTSTART:20250330T010000
END:DAYLIGHT
BEGIN:STANDARD
TZOFFSETFROM:+0200
TZOFFSETTO:+0100
TZNAME:CET
DTSTART:20251026T010000
END:STANDARD
END:VTIMEZONE
BEGIN:VEVENT
DTSTART;TZID=Europe/Rome:20250223T183000
DTEND;TZID=Europe/Rome:20250223T193000
DTSTAMP:20260423T194033
CREATED:20250221T151221Z
LAST-MODIFIED:20250221T151221Z
UID:1117-1740335400-1740339000@www.akerusiadanza.it
SUMMARY:Al magma Teatro Akerusia Danza porta in scena Urgente Restare
DESCRIPTION:Domenica 23 febbraio\, ore 18.30 Akerusia Danza andrà in scena al Magma Teatro di via Vesuvio 55 a Torre Annunziata con Urgente Restare\, nell’ambito della IX stagione di Colpe di Scena.\nLo spettacolo è un processo danzato fatto di riflessioni sulla distanza interiore che può segnare lo spazio della relazione tra due persone e il desiderio di trattenere i momenti vissuti sia passati che presenti\, facendo in modo che restino impressi nella memoria\, crediamo che questo sia quello che succede in ogni rapporto umano e d’amore tra le persone.\n\nLa ricerca coreografica e teatrale è liberamente ispirata alla contrapposizione di due visioni artistiche\, la prima è quella derivante dalle opere di Marc Chagall che nelle sue figurazioni pittoriche rievoca la memoria con un trasporto emotivo e fortemente onirico\, e la seconda è quella della fotografa India Lawton che al contempo sembra giocare sofferente con l’idea di essere dimenticati e cancellati. \nAutori e interpreti: Chiara Alborino e Fabrizio Varriale\ncoordinamento e direzione artistica: Elena D’Aguanno\ntesti drammaturgici: Giuseppe Pompameo\, Enrico Manzo\nvoice over: Kalina Georgieva\, Fabrizio Varriale\ndisegno luci: Ciro Di Matteo\nproduzione Akerusia 
URL:https://www.akerusiadanza.it/event/al-magma-teatro-akerusia-danza-porta-in-scena-urgente-restare/
LOCATION:Magma Teatro\, via Vesuvio 55\, Torre Annunziata\, Napoli\, Italy
ATTACH;FMTTYPE=image/png:https://www.akerusiadanza.it/wp-content/uploads/2025/02/Domenica-23-febbraio-ore-1830-Magma-Teatro-1.png
END:VEVENT
END:VCALENDAR