BEGIN:VCALENDAR
VERSION:2.0
PRODID:-//Akerusia Danza - ECPv6.3.7//NONSGML v1.0//EN
CALSCALE:GREGORIAN
METHOD:PUBLISH
X-WR-CALNAME:Akerusia Danza
X-ORIGINAL-URL:https://www.akerusiadanza.it
X-WR-CALDESC:Eventi per Akerusia Danza
REFRESH-INTERVAL;VALUE=DURATION:PT1H
X-Robots-Tag:noindex
X-PUBLISHED-TTL:PT1H
BEGIN:VTIMEZONE
TZID:Europe/Rome
BEGIN:DAYLIGHT
TZOFFSETFROM:+0100
TZOFFSETTO:+0200
TZNAME:CEST
DTSTART:20250330T010000
END:DAYLIGHT
BEGIN:STANDARD
TZOFFSETFROM:+0200
TZOFFSETTO:+0100
TZNAME:CET
DTSTART:20251026T010000
END:STANDARD
END:VTIMEZONE
BEGIN:VEVENT
DTSTART;TZID=Europe/Rome:20250719T190000
DTEND;TZID=Europe/Rome:20250720T200000
DTSTAMP:20260423T193813
CREATED:20250826T155418Z
LAST-MODIFIED:20250826T155418Z
UID:1191-1752951600-1753041600@www.akerusiadanza.it
SUMMARY:Akerusia Danza porta in scena l’opera coreografica “That Day”
DESCRIPTION:Un uomo e una donna che ritornano in vita per raccontarsi attraverso il linguaggio universale del corpo e della danza\, una performance sospesa tra sogno e memoria firmata Akerusia Danza. È THAT DAY\, opera coreografica e teatrale ideata\, diretta e interpretata da Chiara Alborino e Fabrizio Varriale\, performers e coreografi napoletani\, dal 1999 impegnati in un’intensa attività di ricerca sui linguaggi contemporanei della scena nazionale e internazionale. Lo spettacolo andrà in scena il 19 e 20 luglio\, ore 19.00 nella Sala Assoli\, Vico Lungo Teatro Nuovo\, 110. \n \nProdotto da Akerusia Danza\, compagnia diretta da Elena D’Aguanno\, THAT DAY è una creazione poetica e visionaria nata nel cuore d’Europa\, a Zdar\, in Repubblica Ceca\, e ora riscritta in una forma nuova e originale per il pubblico partenopeo. Un banchetto di nozze come varco per l’aldilà. Un tavolo che è altare\, soglia e simbolo di ciò che fu. La storia ruota attorno a due amanti che ritornano dal passato per rivivere la loro relazione davanti agli occhi degli spettatori\, rendendoli testimoni di un viaggio nell’anima e nella memoria. \nIn un tempo sospeso e in uno spazio essenziale\, gesti lenti e carichi di significato\, canti popolari\, suggestioni sonore e luci evocative firmate da Libero De Martino compongono un affresco emozionale ispirato liberamente alle leggende e alle presenze della Napoli più misteriosa. Con i testi drammaturgici di Giuseppe Pompameo ed Enrico Manzo\, le sonorità e il canto dal vivo di Eleonora Ricciardi\, e le voci narranti di Kalina Georgieva e dello stesso Fabrizio Varriale\, la performance invita ciascuno a riconoscersi in un frammento\, in uno sguardo\, in una carezza interrotta\, a riscoprire nei corpi in scena l’eco delle proprie relazioni e malinconie. Una danza che è rito e memoria\, amore e separazione\, sogno e realtà: THAT DAY non è solo uno spettacolo\, è un incontro. \nLo spettacolo si inserisce nel programma Napoli 2500\, direzione artistica di Laura Valente\, che celebra i 2500 anni di Neapolis. Il 2025 è un anno speciale per Napoli\, che festeggia la sua lunga storia con un ricco calendario di eventi\, mostre\, spettacoli e iniziative culturali pensate per raccontare l’identità profonda della città\, intrecciando passato\, presente e futuro. \nNapoli 2500 è un viaggio lungo un anno\, promosso dal Comune di Napoli in collaborazione con oltre 80 enti\, istituzioni culturali\, università e realtà del territorio\, insieme a importanti partner internazionali. Il Napoli Fringe Festival si distingue come una manifestazione multidisciplinare di arti performative\, ispirata al modello del Fringe di Edimburgo e realizzata in partnership con i festival di Milano e Torino. \nIl Fringe\, che accompagnerà le celebrazioni fino a dicembre\, porta teatro\, danza\, musica\, letteratura\, street art e arti digitali in strada\, nei parchi\, nei teatri\, nei cortili e in spazi non convenzionali\, trasformando Napoli in un palcoscenico diffuso. \nPer info e prenotazioni: akerusia@libero.it | 393 689 9719
URL:https://www.akerusiadanza.it/event/akerusia-danza-porta-in-scena-lopera-coreografica-that-day/
LOCATION:Sala Assoli\, Vico Lungo Teatro Nuovo 110\, Napoli
ATTACH;FMTTYPE=image/jpeg:https://www.akerusiadanza.it/wp-content/uploads/2025/08/that-day-7.jpg
END:VEVENT
END:VCALENDAR