BEGIN:VCALENDAR
VERSION:2.0
PRODID:-//Akerusia Danza - ECPv6.3.7//NONSGML v1.0//EN
CALSCALE:GREGORIAN
METHOD:PUBLISH
X-WR-CALNAME:Akerusia Danza
X-ORIGINAL-URL:https://www.akerusiadanza.it
X-WR-CALDESC:Eventi per Akerusia Danza
REFRESH-INTERVAL;VALUE=DURATION:PT1H
X-Robots-Tag:noindex
X-PUBLISHED-TTL:PT1H
BEGIN:VTIMEZONE
TZID:Europe/Rome
BEGIN:DAYLIGHT
TZOFFSETFROM:+0100
TZOFFSETTO:+0200
TZNAME:CEST
DTSTART:20250330T010000
END:DAYLIGHT
BEGIN:STANDARD
TZOFFSETFROM:+0200
TZOFFSETTO:+0100
TZNAME:CET
DTSTART:20251026T010000
END:STANDARD
END:VTIMEZONE
BEGIN:VEVENT
DTSTART;TZID=Europe/Rome:20251121T210000
DTEND;TZID=Europe/Rome:20251121T220000
DTSTAMP:20260422T145929
CREATED:20251120T190901Z
LAST-MODIFIED:20251120T190901Z
UID:1253-1763758800-1763762400@www.akerusiadanza.it
SUMMARY:Akerusia danza porta al Teatro Serra Napoli Borbonica – Splendore e Contraddizioni di un Regno
DESCRIPTION:Akerusia Danza è protagonista il 21 novembre alle 21 al Teatro Serra di Fuorigrotta all’interno di “Storie Borboniche al Serra”\, la nuova rassegna multidisciplinare a ingresso gratuito proposta dal 19 al 23 novembre dall’Associazione Motus. \n \nL’iniziativa\, parte del progetto “Affabulazione” promosso dal Comune di Napoli e finanziato attraverso il Fondo nazionale per lo spettacolo dal vivo della Direzione Generale Spettacolo del Ministero della Cultura\, intreccia performance e laboratori per restituire in chiave contemporanea la complessità e la vitalità della Napoli dei Borboni. \nIn questo contesto prende vita Napoli Borbonica – Splendore e Contraddizioni di un Regno\, con drammaturgia e interpretazione di Anita Mosca\, danza e coreografia di Sabrina D’Aguanno\, e musiche dal vivo di Martina Primicile Carafa\, un lavoro che ricompone luci e ombre di un’epoca storica attraverso una narrazione performativa densa e immersiva.
URL:https://www.akerusiadanza.it/event/akerusia-danza-porta-al-teatro-serra-napoli-borbonica-splendore-e-contraddizioni-di-un-regno/
LOCATION:Teatro Serra
ATTACH;FMTTYPE=image/jpeg:https://www.akerusiadanza.it/wp-content/uploads/2025/11/post-21-nov-spettacolo.jpg
END:VEVENT
END:VCALENDAR