BEGIN:VCALENDAR
VERSION:2.0
PRODID:-//Akerusia Danza - ECPv6.3.7//NONSGML v1.0//EN
CALSCALE:GREGORIAN
METHOD:PUBLISH
X-WR-CALNAME:Akerusia Danza
X-ORIGINAL-URL:https://www.akerusiadanza.it
X-WR-CALDESC:Eventi per Akerusia Danza
REFRESH-INTERVAL;VALUE=DURATION:PT1H
X-Robots-Tag:noindex
X-PUBLISHED-TTL:PT1H
BEGIN:VTIMEZONE
TZID:Europe/Rome
BEGIN:DAYLIGHT
TZOFFSETFROM:+0100
TZOFFSETTO:+0200
TZNAME:CEST
DTSTART:20250330T010000
END:DAYLIGHT
BEGIN:STANDARD
TZOFFSETFROM:+0200
TZOFFSETTO:+0100
TZNAME:CET
DTSTART:20251026T010000
END:STANDARD
END:VTIMEZONE
BEGIN:VEVENT
DTSTART;TZID=Europe/Rome:20251202T200000
DTEND;TZID=Europe/Rome:20251202T210000
DTSTAMP:20260423T180053
CREATED:20251130T172021Z
LAST-MODIFIED:20260118T202117Z
UID:1277-1764705600-1764709200@www.akerusiadanza.it
SUMMARY:Akerusia Danza in scena con Fiori d’Estate agli eventi del TIRANON VIVIANI 
DESCRIPTION:Akerusia Danza sarà in scena con Fiori d’Estate al TIRANON VIVIANI il 2 dicembre\, ore 20.00 \nUn viaggio poetico tra nascita\, vita e amore. Nel nuovo lavoro coreografico Fiori d’estate\, Chiara Alborino immagina un coro di corpi distesi a terra\, come fiori che dormono e che all’alba si risvegliano uno ad uno. \nAttraverso assoli\, duetti e danze corali\, gli allievi di Corpo Unico – il ciclo di danza inclusiva della Scuola Elementare del Teatro – portano in scena la propria fragranza vitale\, dando forma a un racconto fatto di sensibilità\, connessione e meraviglia. Un inno alla bellezza dei corpi\, tutti diversi\, tutti unici. \nCoreografia: Chiara Alborino\nProduzione: Akerusia Danza\nIn scena agli eventi del Tiranon Viviani \n 
URL:https://www.akerusiadanza.it/event/akerusia-danza-in-scena-con-fiori-destate-agli-eventi-del-tiranon-viviani/
LOCATION:Trianon Viviani\, Piazza Vincenzo Calenda\, 9\, Napoli
ATTACH;FMTTYPE=image/jpeg:https://www.akerusiadanza.it/wp-content/uploads/2026/01/WhatsApp-Image-2026-01-18-at-21.15.51.jpeg
END:VEVENT
END:VCALENDAR