BEGIN:VCALENDAR
VERSION:2.0
PRODID:-//Akerusia Danza - ECPv6.3.7//NONSGML v1.0//EN
CALSCALE:GREGORIAN
METHOD:PUBLISH
X-WR-CALNAME:Akerusia Danza
X-ORIGINAL-URL:https://www.akerusiadanza.it
X-WR-CALDESC:Eventi per Akerusia Danza
REFRESH-INTERVAL;VALUE=DURATION:PT1H
X-Robots-Tag:noindex
X-PUBLISHED-TTL:PT1H
BEGIN:VTIMEZONE
TZID:Europe/Rome
BEGIN:DAYLIGHT
TZOFFSETFROM:+0100
TZOFFSETTO:+0200
TZNAME:CEST
DTSTART:20250330T010000
END:DAYLIGHT
BEGIN:STANDARD
TZOFFSETFROM:+0200
TZOFFSETTO:+0100
TZNAME:CET
DTSTART:20251026T010000
END:STANDARD
END:VTIMEZONE
BEGIN:VEVENT
DTSTART;TZID=Europe/Rome:20251122T203000
DTEND;TZID=Europe/Rome:20251123T190000
DTSTAMP:20260422T131720
CREATED:20251120T184909Z
LAST-MODIFIED:20251120T185002Z
UID:1244-1763843400-1763924400@www.akerusiadanza.it
SUMMARY:Akerusia danza al Teatro Instabile Napoli per Oltre la linea
DESCRIPTION:Akerusia Danza\, presenza costante nella rassegna Oltre la linea dedicata alla danza contemporanea e al teatro-danza\, torna al TIN – Teatro Instabile Napoli\, in vico Fico Purgatorio 38 nel centro storico della città\, con due appuntamenti che confermano la continuità del suo dialogo artistico con lo spazio. \nIl 22 novembre alle 20.30 la compagnia presenta Mosaico… frammenti di\, coreografia di Elena D’Aguanno e Marcella Martusciello\, interpretato da Marcella Martusciello\, Chiara Sorrentino e Noemi D’Angelo\, con musiche originali di Julia Primicile Carafa\, una creazione che indaga il valore simbolico dei frammenti come possibilità di ricomporre nuove forme e nuovi significati. \nIl 23 novembre alle 19.00 chiude la rassegna Anna Cappelli\, dal testo originale di Annibale Ruccello\, interpretato e diretto da Patrizia Eger\, con la danzatrice Sabrina D’Aguanno\, coreografia di Elena D’Aguanno e disegno luci di Ciro Di Matteo. Entrambe le produzioni portano la firma di Akerusia Danza\, che anche in questa edizione rinnova il suo contributo alla ricerca scenica del TIN\, confermando la propria centralità nella programmazione della rassegna. \nIngresso: 10 €-ridotto 8 €\nInfo e prenotazioni: 366 8711689
URL:https://www.akerusiadanza.it/event/akerusia-danza-al-teatro-instabile-napoli-per-oltre-la-linea/
LOCATION:Teatro Instabile Napoli\, vico Fico al Purgatorio\, Napoli
ATTACH;FMTTYPE=image/jpeg:https://www.akerusiadanza.it/wp-content/uploads/2025/11/Anna-Cappelli-2.jpeg
END:VEVENT
END:VCALENDAR