BEGIN:VCALENDAR
VERSION:2.0
PRODID:-//Akerusia Danza - ECPv6.3.7//NONSGML v1.0//EN
CALSCALE:GREGORIAN
METHOD:PUBLISH
X-WR-CALNAME:Akerusia Danza
X-ORIGINAL-URL:https://www.akerusiadanza.it
X-WR-CALDESC:Eventi per Akerusia Danza
REFRESH-INTERVAL;VALUE=DURATION:PT1H
X-Robots-Tag:noindex
X-PUBLISHED-TTL:PT1H
BEGIN:VTIMEZONE
TZID:Europe/Rome
BEGIN:DAYLIGHT
TZOFFSETFROM:+0100
TZOFFSETTO:+0200
TZNAME:CEST
DTSTART:20250330T010000
END:DAYLIGHT
BEGIN:STANDARD
TZOFFSETFROM:+0200
TZOFFSETTO:+0100
TZNAME:CET
DTSTART:20251026T010000
END:STANDARD
END:VTIMEZONE
BEGIN:VEVENT
DTSTART;TZID=Europe/Rome:20250925T150000
DTEND;TZID=Europe/Rome:20250927T220000
DTSTAMP:20260423T211110
CREATED:20250922T204313Z
LAST-MODIFIED:20250923T183621Z
UID:1210-1758812400-1759010400@www.akerusiadanza.it
SUMMARY:Akerusia danza a Miano per la rassegna Affabulazione
DESCRIPTION:Akerusia danza è tra i protagonisti del progetto Neapolis in transizione Echi e visioni\, organizzato dal Consorzio Utòpia – di cui Akerusia è tra i fondatori – alla Parrocchia di Santa Maria dell’Arco a Miano\, e realizzato nell’ambito della rassegna Affabulazione Autunno 2025 progetto promosso dal Comune di Napoli e finanziato dal Ministero della Cultura. \nAkerusia partecipa con il workshop Armonia di gesti e movimenti che avrà luogo giovedì 25 settembreore 15-17\,  aperto a ragazzi e adulti. Guidato da Elena D’Aguanno e Michele Principe\, alla scoperta delle origini della commedia degli equivoci\, intrecciando parola e movimento. Attraverso il dialogo con il teatro danza\, viene esplorato il gesto come potente amplificatore del testo\, capace di rivelarne nuove sfumature e significati. \n \nSempre nell’ambito di Affabulazione la compagnia salirà sul palco il 27 settembre\, ore 21\, portando in scena una nuova produzione: Stirpe di Sirene\, una performance fiabesca Amelia e Francesca Rondinella con Patrizia Di Martino e le coreografie di Elena D’Aguanno e le giovani danzatrici di Akerusia Maria Giulia D’Angelo Noemi D’Angelo e Margherita Gallo in una storia sospesa tra mito e fantasia che chiuderà il ricco programma della rassegna nel magico Chiostro. \nSinossi: In una Napoli antica\, dove le leggende prendono vita\, il coro di giovani sirene danzanti racconta una storia misteriosa: quella della “Stirpe di Sirene”\, una dinastia dimenticata e maledetta.\nThalia\, Aglae ed Eufrosine\, uniche discendenti\, attraverso il canto sacro\, potrebbero liberarsi e liberare tutte le creature marine intrappolate\, ma la libertà ha un prezzo. Invece di sacrificare tutto\, riescono a rivelare un nuovo equilibrio tra uomini e sirene. Vivranno tra gli esseri umani\, conservando il loro potere misterioso e il legame con il mare. \nPer prenotarsi a spettacoli e laboratori:366 8711689 – e-mail info@consorzioutopia.it \nInfo in dettaglio: www.consorzioutopia.it
URL:https://www.akerusiadanza.it/event/akerusia-danza-a-miano-per-la-rassegna-affabulazione/
LOCATION:parrocchia di Santa Maria Dell’arco\, piazza Madonna dell'Arco 8\, Napoli\, Campania\, Italy
ATTACH;FMTTYPE=image/jpeg:https://www.akerusiadanza.it/wp-content/uploads/2025/09/post-lab25-1.jpg
END:VEVENT
END:VCALENDAR